BEGIN:VCALENDAR
VERSION:2.0
PRODID:-//eventon.com NONSGML v1.0//EN
BEGIN:VEVENT
UID:69e9e69692b0e
DTSTAMP:20260423T112958
DTSTART:20260423T140000Z
DTEND:20260423T144500Z
TZID:Europe/Berlin
LOCATION:Paartalhalle Walleshausen Schölfstraße 4
SUMMARY:Zwergerlturnen
DESCRIPTION: Spiel\,  Spaß & Bewegung! Für alle kleinen Entdecker von 1–3 Jahren mit Mama\,  Papa\,  Oma oder Opa.Gemeinsam krabbeln\,  klettern\,  balancieren\,  hüpfen – und dabei jede Menge Freude an der Bewegung erleben. Das erwartet dich: Spielerisches Kennenlernen von Bewegung & Rhythmus Förderung von Motorik\,  Koordination & Balance Viel Raum zum Lachen\, [..]
URL:https://fv-walleshausen.de/veranstaltung/zwergerlturnen/
END:VEVENT
END:VCALENDAR