BEGIN:VCALENDAR
VERSION:2.0
PRODID:-//eventon.com NONSGML v1.0//EN
BEGIN:VEVENT
UID:69eb5bdf44011
DTSTAMP:20260424T140239
DTSTART:20260427T173000Z
DTEND:20260427T183000Z
TZID:Europe/Berlin
LOCATION:Paartalhalle Walleshausen Schölfstraße 4
SUMMARY:Fitness Spezial
DESCRIPTION: FITNESS SPEZIAL – Dein Power-Kurs für Körper & Geist! Das erwartet dich: Abwechslungsreiche Fitness-Einheiten (Kraft\,  Ausdauer\,  Beweglichkeit & Koordination) Jede Woche ein neues Highlight mit wechselnden Trainern/-innen – von HIIT bis Zirkeltraining Perfekt für Anfänger & Fortgeschrittene In der Gruppe trainieren\,  Spaß haben & motiviert bleiben Starte jetzt durch und[..]
URL:https://fv-walleshausen.de/veranstaltung/fitness-spezial/var/ri-1.l-L1
END:VEVENT
END:VCALENDAR