BEGIN:VCALENDAR
VERSION:2.0
PRODID:-//eventon.com NONSGML v1.0//EN
BEGIN:VEVENT
UID:69eb5c5015b0c
DTSTAMP:20260424T140432
DTSTART:20260424T130000Z
DTEND:20260424T140000Z
TZID:Europe/Berlin
LOCATION:Paartalhalle Walleshausen Schölfstraße 4
SUMMARY:Tanzen "Sweet Steps" (3.-7. Klasse)
DESCRIPTION: Was braucht ihr? Geeignete SportklamottenSonstiges: Trinkflasche\,  Schläppchen oder SockenSpaß am Tanzen und Bewegen Bei Möglichkeit bitte Voranmeldung! Wir freuen uns auf euch KONTAKTLeni Löscher\,  0152 02942885\,  Lena Widmann\,  0176 40442016\,  E-Mail: lena-1107@gmx.de
URL:https://fv-walleshausen.de/veranstaltung/tanzen-2-5-klasse/
END:VEVENT
END:VCALENDAR