BEGIN:VCALENDAR
VERSION:2.0
PRODID:-//eventon.com NONSGML v1.0//EN
BEGIN:VEVENT
UID:69e9e7330318f
DTSTAMP:20260423T113235
DTSTART:20260423T163000Z
DTEND:20260423T180000Z
TZID:Europe/Berlin
LOCATION:Paartalhalle Walleshausen Schölfstraße 4
SUMMARY:Taekwon-Do - Erwachsene
DESCRIPTION: Liebe Neugierige und Wiedereinsteiger(innen)\,  eine alte koreanische Kampfkunst kommt wieder nach Walleshausen. Traditionelles Taekwon-Do ist auf die Beherrschung des Körpers ausgelegt und soll der Verteidigung dienen. Durch das kontaktlose Training ist das Verletzungsrisiko sehr gering. Körper und Geist sollen geschult und in Einklang gebracht werden. Daher ist es für jede[..]
URL:https://fv-walleshausen.de/veranstaltung/taekwon-do-erwachsene/
END:VEVENT
END:VCALENDAR