BEGIN:VCALENDAR
VERSION:2.0
PRODID:-//eventon.com NONSGML v1.0//EN
BEGIN:VEVENT
UID:69e9e88a94182
DTSTAMP:20260423T113818
DTSTART:20260423T180000Z
DTEND:20260423T190000Z
TZID:Europe/Berlin
LOCATION:Paartalhalle Walleshausen Schölfstraße 4
SUMMARY:Zumba-Kurs
DESCRIPTION: Zumba kombiniert Aerobic mit lateinamerikanischen sowie internationalen Tänzen. Dabei trainierst du Ausdauer und Koordination. Spaß an der Bewegung und Auspowern stehen im Vordergrund. Da die Schrittfolgen leicht zu erlernen sind\,  ist Zumba auch für Einsteiger gut geeignet. Dieses Angebot wird Indoor angeboten. Anmeldung bei der KursleitungMaria Drexl\,  0160 / 2866184[..]
URL:https://fv-walleshausen.de/veranstaltung/zumba-kurs-copy/
END:VEVENT
END:VCALENDAR