BEGIN:VCALENDAR
VERSION:2.0
PRODID:-//eventon.com NONSGML v1.0//EN
BEGIN:VEVENT
UID:69e8954296625
DTSTAMP:20260422T113042
DTSTART:20260422T140000Z
DTEND:20260422T150000Z
TZID:Europe/Berlin
LOCATION:Paartalhalle Walleshausen Schölfstraße 4
SUMMARY:Eltern-Kind-Turnen
DESCRIPTION: Beim Eltern-Kind-Turnen spielen und toben Kinder an verschiedenen Turnstationen. Dabei bestehen die Kinder so manche &#8222;Mutprobe&#8220;. Die Turnstunde vergeht mit und ohne Handgeräten\,  sowie spielerischem Turnen an den Großgeräten meist wie im Fluge. Mitzubringen sind: entsprechende Turnkleidung KONTAKTInge Reiner\,  08195/1635\,  0176/92280654
URL:https://fv-walleshausen.de/veranstaltung/eltern-kind-turnen-2-4-jahre-2/
END:VEVENT
END:VCALENDAR