BEGIN:VCALENDAR
VERSION:2.0
PRODID:-//eventon.com NONSGML v1.0//EN
BEGIN:VEVENT
UID:69e895d12552e
DTSTAMP:20260422T113305
DTSTART:20260422T130000Z
DTEND:20260422T140000Z
TZID:Europe/Berlin
LOCATION:Paartalhalle Walleshausen Schölfstraße 4
SUMMARY:Kinderturnen (4-6 Jahre)
DESCRIPTION: Habt ihr Lust verschiedene Geräte auszuprobieren?In dieser Stunde werden die Kinder spielerisch an Groß- und Kleingeräte herangeführt. Wichtig ist mir in jeder Stunde\,  den Kindern Spaß und Freude an der Bewegung zu vermitteln. Mitzubringen sind: entsprechende Turnkleidung KONTAKTInge Reiner\,  08195/1635\,  0176/92280654
URL:https://fv-walleshausen.de/veranstaltung/kinderturnen-4-6-jahre-2/
END:VEVENT
END:VCALENDAR