BEGIN:VCALENDAR
VERSION:2.0
PRODID:-//eventon.com NONSGML v1.0//EN
BEGIN:VEVENT
UID:69e63c671268c
DTSTAMP:20260420T164703
DTSTART:20260420T160000Z
DTEND:20260420T170000Z
TZID:Europe/Berlin
LOCATION:Paartalhalle Walleshausen Schölfstraße 4
SUMMARY:Hatha Yoga (Kurs)
DESCRIPTION: Erlernen des Sonnengebetes / Kontrolle der Atmung / Einüben der Asanas (Stellungen) / Entspannungsübungen Yoga bringt durch sanftes Üben Körper und Geist in Einklang und es ist keine sportliche Erfahrung notwendig.&nbsp; Ihr benötigt dazu nur gute Laune und eine Yogamatte. KONTAKTSonja Neumair\,  email: so.neumair(at)gmx.de\,  Mobil 0162/9759720 Anmeldung ist erforderlich! Zusatzbeitrag
URL:https://fv-walleshausen.de/veranstaltung/hatha-yoga-kurs-4/
END:VEVENT
END:VCALENDAR