BEGIN:VCALENDAR
VERSION:2.0
PRODID:-//eventon.com NONSGML v1.0//EN
BEGIN:VEVENT
UID:69e769195ae0a
DTSTAMP:20260421T141001
DTSTART:20260421T141500Z
DTEND:20260421T151500Z
TZID:Europe/Berlin
LOCATION:Paartalhalle Walleshausen Schölfstraße 4
SUMMARY:Sport-Spiel-Spaß ab der 4. Klasse
DESCRIPTION: In dieser Stunde wechseln wir von kleinen zu großen Ballspielen. Einfach turnerische Elemente werden ebenfalls vermittelt. Im Vordergrund steht die Freude an der Bewegung. Die Stunde findet als „Barfuss-Turnen“ statt.&nbsp; Bei gesundheitlichen Problemen an den Fußsohlen können maximal leichte Gymnastikschuhe mit Gummisohle benutzt werden. Anti-Rutschsocken oder feste Turnschuhe sind keine[..]
URL:https://fv-walleshausen.de/veranstaltung/sport-spiel-spass-ab-der-5-klasse/
END:VEVENT
END:VCALENDAR