BEGIN:VCALENDAR
VERSION:2.0
PRODID:-//eventon.com NONSGML v1.0//EN
BEGIN:VEVENT
UID:69e76a50efc88
DTSTAMP:20260421T141512
DTSTART:20260421T131500Z
DTEND:20260421T141500Z
TZID:Europe/Berlin
LOCATION:Paartalhalle Walleshausen Schölfstraße 4
SUMMARY:Kinderturnen ab 6 Jahre bis 3. Klasse
DESCRIPTION: In dieser Stunde werden Kindern neben Spaß und Freude ganz nebenbei vielfältige koordinative und motorische Fertigkeiten vermitteln. Durch kleine Spiele und Turnen an verschiedenen Geräten wird das Bewegungsbedürfnis der Kinder berücksichtigt. Die Stunde findet als „Barfuss-Turnen“ statt.&nbsp; Bei gesundheitlichen Problemen an den Fußsohlen können maximal leichte Gymnastikschuhe mit Gummisohle benutzt[..]
URL:https://fv-walleshausen.de/veranstaltung/kinderturnen-1-bis-4-klasse/
END:VEVENT
END:VCALENDAR