BEGIN:VCALENDAR
VERSION:2.0
PRODID:-//eventon.com NONSGML v1.0//EN
BEGIN:VEVENT
UID:69e89665dd9ab
DTSTAMP:20260422T113533
DTSTART:20260422T173000Z
DTEND:20260422T183000Z
TZID:Europe/Berlin
LOCATION:Paartalhalle Walleshausen Schölfstraße 4
SUMMARY:Step Aerobic (Kurs)
DESCRIPTION: für Anfänger / Wiedereinsteiger Wenn du Spaß an Musik und Bewegung hast\,  komm und probiers doch einfach mal aus.Auch für Wiedereinsteiger. Ihr benötigt dazu nur gute Laune. KONTAKTAndrea Wörmann\,  08195/999683\,  0151/42898892
URL:https://fv-walleshausen.de/veranstaltung/step-aerobic-kurs/
END:VEVENT
END:VCALENDAR